BEGIN:VCALENDAR
VERSION:2.0
PRODID:-//Marathon Garden Club - ECPv5.4.0.2//NONSGML v1.0//EN
CALSCALE:GREGORIAN
METHOD:PUBLISH
X-WR-CALNAME:Marathon Garden Club
X-ORIGINAL-URL:https://marathongardenclub.org
X-WR-CALDESC:Events for Marathon Garden Club
BEGIN:VTIMEZONE
TZID:UTC
BEGIN:STANDARD
TZOFFSETFROM:+0000
TZOFFSETTO:+0000
TZNAME:UTC
DTSTART:20210101T000000
END:STANDARD
END:VTIMEZONE
BEGIN:VEVENT
DTSTART;TZID=UTC:20211108T100000
DTEND;TZID=UTC:20211108T120000
DTSTAMP:20260423T110416
CREATED:20211022T191123Z
LAST-MODIFIED:20211022T191123Z
UID:3254-1636365600-1636372800@marathongardenclub.org
SUMMARY:Beginner Monarch Butterfly Clinic
DESCRIPTION:On Monday\, November 8th\, 2021 at 10 AM\, MGC will hold a BEGINNER Monarch Butterfly Clinic. This clinic is designed to introduce the plight of Monarch butterflies and how you can assist these beautiful creatures in their annual migration journey. You will learn what 20 plants are needed in your Monarch garden. Tips and techniques\, learned in the beginner clinic\, serves as the foundation for you to take a deeper dive should you decide to take the follow-on Advanced Monarch clinic. This Beginner Monarch clinic was previously presented in the Spring of 2021. \nTopics include: \n• Why are Monarch populations diminishing?\n• Components of a Monarch Garden Waystation\n• Monarch Lifecycle and how you can help improve their survival rate\n• Monarch migration through the Florida Keys and north/south\n• MGC Certification Program \nThis one-hour program\, for a maximum of 20 attendees\, is scheduled to be held at the MGC Club house and is OPEN TO MEMBERS ONLY.\nA selection of Monarch friendly plants will be available to purchase before and after the clinic. \nTo reserve your spot\, please call or drop by the gift shop. Sign up starts this Thursday\, Oct 21st.
URL:https://marathongardenclub.org/event/beginner-monarch-butterfly-clinic/
ATTACH;FMTTYPE=image/jpeg:https://marathongardenclub.org/wp-content/uploads/2020/12/Monarch-on-Flower.jpg
END:VEVENT
END:VCALENDAR