BEGIN:VCALENDAR
VERSION:2.0
PRODID:-//Marathon Garden Club - ECPv5.4.0.2//NONSGML v1.0//EN
CALSCALE:GREGORIAN
METHOD:PUBLISH
X-WR-CALNAME:Marathon Garden Club
X-ORIGINAL-URL:https://marathongardenclub.org
X-WR-CALDESC:Events for Marathon Garden Club
BEGIN:VTIMEZONE
TZID:UTC
BEGIN:STANDARD
TZOFFSETFROM:+0000
TZOFFSETTO:+0000
TZNAME:UTC
DTSTART:20230101T000000
END:STANDARD
END:VTIMEZONE
BEGIN:VEVENT
DTSTART;VALUE=DATE:20230207
DTEND;VALUE=DATE:20230208
DTSTAMP:20260423T045420
CREATED:20230109T162111Z
LAST-MODIFIED:20230109T162111Z
UID:3383-1675728000-1675814399@marathongardenclub.org
SUMMARY:Field Trip to Fairchild Botanical Gardens in Miami
DESCRIPTION:
URL:https://marathongardenclub.org/event/field-trip-to-fairchild-botanical-gardens-in-miami/
END:VEVENT
END:VCALENDAR