BEGIN:VCALENDAR
VERSION:2.0
PRODID:-//Marathon Garden Club - ECPv5.4.0.2//NONSGML v1.0//EN
CALSCALE:GREGORIAN
METHOD:PUBLISH
X-WR-CALNAME:Marathon Garden Club
X-ORIGINAL-URL:https://marathongardenclub.org
X-WR-CALDESC:Events for Marathon Garden Club
BEGIN:VTIMEZONE
TZID:UTC
BEGIN:STANDARD
TZOFFSETFROM:+0000
TZOFFSETTO:+0000
TZNAME:UTC
DTSTART:20240101T000000
END:STANDARD
END:VTIMEZONE
BEGIN:VEVENT
DTSTART;TZID=UTC:20240302T100000
DTEND;TZID=UTC:20240302T160000
DTSTAMP:20260422T111249
CREATED:20210929T181858Z
LAST-MODIFIED:20240205T185036Z
UID:1008-1709373600-1709395200@marathongardenclub.org
SUMMARY:House and Garden Tour
DESCRIPTION:House and Garden Tour\nThe Marathon Garden Club will host their annual House and Garden Tour on Saturday\, March 2nd from 10am until 4pm featuring 4 luxury oceanfront homes on Key Colony Beach and Stirrup Key. Also included will be our unique garden and Orchid Wall at our clubhouse. Tickets are $35 and may be purchased at the Garden Club\, 5270 Overseas Highway\, MM50\, Gulf (Mon. – Fri. 10-2)\, from the Marathon Chamber of Commerce\, at the DK Beach Boutique on Key Colony Beach or online at Eventbrite (www.eventbrite.com). Call the garden club at 305-743-4971 for more information.
URL:https://marathongardenclub.org/event/house-and-garden-tour/
ATTACH;FMTTYPE=image/jpeg:https://marathongardenclub.org/wp-content/uploads/2024/02/Home-Garden-Tour-Flyer-2024_page-0001.jpg
END:VEVENT
END:VCALENDAR