BEGIN:VCALENDAR
VERSION:2.0
PRODID:-//Marathon Garden Club - ECPv5.4.0.2//NONSGML v1.0//EN
CALSCALE:GREGORIAN
METHOD:PUBLISH
X-WR-CALNAME:Marathon Garden Club
X-ORIGINAL-URL:https://marathongardenclub.org
X-WR-CALDESC:Events for Marathon Garden Club
BEGIN:VTIMEZONE
TZID:UTC
BEGIN:STANDARD
TZOFFSETFROM:+0000
TZOFFSETTO:+0000
TZNAME:UTC
DTSTART:20180101T000000
END:STANDARD
END:VTIMEZONE
BEGIN:VEVENT
DTSTART;TZID=UTC:20180316T130000
DTEND;TZID=UTC:20180316T150000
DTSTAMP:20260423T010303
CREATED:20180305T143709Z
LAST-MODIFIED:20180305T215447Z
UID:1366-1521205200-1521212400@marathongardenclub.org
SUMMARY:March Membership Meeting
DESCRIPTION:Growing & Care of Host Plants to Attract Local Butterflies by Beryn Hardy.
URL:https://marathongardenclub.org/event/march-membership-meeting/
END:VEVENT
END:VCALENDAR