BEGIN:VCALENDAR
VERSION:2.0
PRODID:-//Marathon Garden Club - ECPv5.4.0.2//NONSGML v1.0//EN
CALSCALE:GREGORIAN
METHOD:PUBLISH
X-WR-CALNAME:Marathon Garden Club
X-ORIGINAL-URL:https://marathongardenclub.org
X-WR-CALDESC:Events for Marathon Garden Club
BEGIN:VTIMEZONE
TZID:UTC
BEGIN:STANDARD
TZOFFSETFROM:+0000
TZOFFSETTO:+0000
TZNAME:UTC
DTSTART:20260101T000000
END:STANDARD
END:VTIMEZONE
BEGIN:VEVENT
DTSTART;TZID=UTC:20261023T123000
DTEND;TZID=UTC:20261023T143000
DTSTAMP:20260422T185217
CREATED:20260106T161958Z
LAST-MODIFIED:20260106T161958Z
UID:3790-1792758600-1792765800@marathongardenclub.org
SUMMARY:Monthly Membership Meeting (October\, 2026)
DESCRIPTION:Monthly Meetings are held at the Garden Club unless otherwise noted. Membership meetings gather on Fridays at 12:30 P.M with meetings and speakers beginning at 1:00 P.M. (except November 21\, 2025)
URL:https://marathongardenclub.org/event/monthly-membership-meeting-october-2026/
END:VEVENT
END:VCALENDAR