BEGIN:VCALENDAR
VERSION:2.0
PRODID:-//Marathon Garden Club - ECPv5.4.0.2//NONSGML v1.0//EN
CALSCALE:GREGORIAN
METHOD:PUBLISH
X-WR-CALNAME:Marathon Garden Club
X-ORIGINAL-URL:https://marathongardenclub.org
X-WR-CALDESC:Events for Marathon Garden Club
BEGIN:VTIMEZONE
TZID:UTC
BEGIN:STANDARD
TZOFFSETFROM:+0000
TZOFFSETTO:+0000
TZNAME:UTC
DTSTART:20230101T000000
END:STANDARD
END:VTIMEZONE
BEGIN:VEVENT
DTSTART;VALUE=DATE:20230120
DTEND;VALUE=DATE:20230121
DTSTAMP:20260423T064317
CREATED:20230109T162044Z
LAST-MODIFIED:20230109T162044Z
UID:3381-1674172800-1674259199@marathongardenclub.org
SUMMARY:Monthly Membership Meeting with 1PM presentation of “Making Sense of Orchid Growing”
DESCRIPTION:
URL:https://marathongardenclub.org/event/monthly-membership-meeting-with-1pm-presentation-of-making-sense-of-orchid-growing/
END:VEVENT
END:VCALENDAR