BEGIN:VCALENDAR
VERSION:2.0
PRODID:-//Marathon Garden Club - ECPv5.4.0.2//NONSGML v1.0//EN
CALSCALE:GREGORIAN
METHOD:PUBLISH
X-WR-CALNAME:Marathon Garden Club
X-ORIGINAL-URL:https://marathongardenclub.org
X-WR-CALDESC:Events for Marathon Garden Club
BEGIN:VTIMEZONE
TZID:UTC
BEGIN:STANDARD
TZOFFSETFROM:+0000
TZOFFSETTO:+0000
TZNAME:UTC
DTSTART:20190101T000000
END:STANDARD
END:VTIMEZONE
BEGIN:VEVENT
DTSTART;TZID=UTC:20191115T130000
DTEND;TZID=UTC:20191115T150000
DTSTAMP:20260423T233537
CREATED:20190925T180147Z
LAST-MODIFIED:20190925T180147Z
UID:1556-1573822800-1573830000@marathongardenclub.org
SUMMARY:November MGC Club Meeting
DESCRIPTION:“Florida Friendly Landscaping\,” presented by Michelle Leonard-Mularz from the University of Florida\, Monroe County and Institute of Food & Agricultural Science.
URL:https://marathongardenclub.org/event/november-mgc-club-meeting/
END:VEVENT
END:VCALENDAR