BEGIN:VCALENDAR
VERSION:2.0
PRODID:-//Marathon Garden Club - ECPv5.4.0.2//NONSGML v1.0//EN
CALSCALE:GREGORIAN
METHOD:PUBLISH
X-WR-CALNAME:Marathon Garden Club
X-ORIGINAL-URL:https://marathongardenclub.org
X-WR-CALDESC:Events for Marathon Garden Club
BEGIN:VTIMEZONE
TZID:UTC
BEGIN:STANDARD
TZOFFSETFROM:+0000
TZOFFSETTO:+0000
TZNAME:UTC
DTSTART:20230101T000000
END:STANDARD
END:VTIMEZONE
BEGIN:VEVENT
DTSTART;VALUE=DATE:20231114
DTEND;VALUE=DATE:20231115
DTSTAMP:20260422T213108
CREATED:20231021T151732Z
LAST-MODIFIED:20231021T153254Z
UID:3458-1699920000-1700006399@marathongardenclub.org
SUMMARY:Picnic in the Park
DESCRIPTION: \nThis our first Picnic in the Park event. We will be going on a complimentary golf cart tour of Crane Point and also touring the Crane House and the new wild bird center. There are picnic tables under a canopy of trees where we can have lunch after the tour. \nFor more information\, contact Jody Cook at jodycook1@gmail.com. \n 
URL:https://marathongardenclub.org/event/picnic-in-the-park/
END:VEVENT
END:VCALENDAR