BEGIN:VCALENDAR
VERSION:2.0
PRODID:-//Marathon Garden Club - ECPv5.4.0.2//NONSGML v1.0//EN
CALSCALE:GREGORIAN
METHOD:PUBLISH
X-WR-CALNAME:Marathon Garden Club
X-ORIGINAL-URL:https://marathongardenclub.org
X-WR-CALDESC:Events for Marathon Garden Club
BEGIN:VTIMEZONE
TZID:UTC
BEGIN:STANDARD
TZOFFSETFROM:+0000
TZOFFSETTO:+0000
TZNAME:UTC
DTSTART:20180101T000000
END:STANDARD
END:VTIMEZONE
BEGIN:VEVENT
DTSTART;TZID=UTC:20180317T090000
DTEND;TZID=UTC:20180317T120000
DTSTAMP:20260421T173600
CREATED:20180305T143825Z
LAST-MODIFIED:20180305T143825Z
UID:1368-1521277200-1521288000@marathongardenclub.org
SUMMARY:Plant Clinic at Home Depot by MGC Master Gardeners
DESCRIPTION:
URL:https://marathongardenclub.org/event/plant-clinic-at-home-depot-by-mgc-master-gardeners/
END:VEVENT
END:VCALENDAR