BEGIN:VCALENDAR
VERSION:2.0
PRODID:-//Marathon Garden Club - ECPv5.4.0.2//NONSGML v1.0//EN
CALSCALE:GREGORIAN
METHOD:PUBLISH
X-WR-CALNAME:Marathon Garden Club
X-ORIGINAL-URL:https://marathongardenclub.org
X-WR-CALDESC:Events for Marathon Garden Club
BEGIN:VTIMEZONE
TZID:UTC
BEGIN:STANDARD
TZOFFSETFROM:+0000
TZOFFSETTO:+0000
TZNAME:UTC
DTSTART:20200101T000000
END:STANDARD
END:VTIMEZONE
BEGIN:VEVENT
DTSTART;TZID=UTC:20201016T130000
DTEND;TZID=UTC:20201016T150000
DTSTAMP:20260423T154210
CREATED:20201012T170009Z
LAST-MODIFIED:20201012T170559Z
UID:2444-1602853200-1602860400@marathongardenclub.org
SUMMARY:Presentation: Challenges and Pleasures of Gardening in the Keys
DESCRIPTION:Marathon Garden Club Presentation \nThere will be no October Marathon Garden Club meeting\, but on Friday\, October 16th at 1PM\, Linnea Cunningham will present “Challenges and Pleasures of Gardening in the Keys.” Topics include “Plants You Can’t Kill\,” “Just Coming Down from the North? What To Put in the Ground” and “Native vs Nonnative Plants.” The presentation will be held outdoors in the Garden Club nursery and parking area. Social distancing will be in effect and masks are required.
URL:https://marathongardenclub.org/event/presentation-challenges-and-pleasures-of-gardening-in-the-keys/
END:VEVENT
END:VCALENDAR