BEGIN:VCALENDAR
VERSION:2.0
PRODID:-//Marathon Garden Club - ECPv5.4.0.2//NONSGML v1.0//EN
CALSCALE:GREGORIAN
METHOD:PUBLISH
X-WR-CALNAME:Marathon Garden Club
X-ORIGINAL-URL:https://marathongardenclub.org
X-WR-CALDESC:Events for Marathon Garden Club
BEGIN:VTIMEZONE
TZID:UTC
BEGIN:STANDARD
TZOFFSETFROM:+0000
TZOFFSETTO:+0000
TZNAME:UTC
DTSTART:20180101T000000
END:STANDARD
END:VTIMEZONE
BEGIN:VEVENT
DTSTART;TZID=UTC:20180420T120000
DTEND;TZID=UTC:20180420T140000
DTSTAMP:20260424T033101
CREATED:20180305T143920Z
LAST-MODIFIED:20180321T202830Z
UID:1370-1524225600-1524232800@marathongardenclub.org
SUMMARY:Spring Luncheon at Faro Blanco
DESCRIPTION:Tickets are $25 and can be purchased at the Gift Shop from 10-2 or by calling Dale Chorebanian at 978-490 7485. Cut off date is April 13th.
URL:https://marathongardenclub.org/event/spring-luncheon-at-the-garden-club/
LOCATION:Faro Blanco Resort and Yacht Club\, 1996 Overseas Highway\, Marathon\, FL\, 33050\, United States
END:VEVENT
END:VCALENDAR